BEGIN:VCALENDAR
VERSION:2.0
PRODID:-//Sonnenbergschule Aidlingen - ECPv6.2.3.2//NONSGML v1.0//EN
CALSCALE:GREGORIAN
METHOD:PUBLISH
X-ORIGINAL-URL:http://www.sonnenbergschule-aidlingen.de
X-WR-CALDESC:Veranstaltungen für Sonnenbergschule Aidlingen
REFRESH-INTERVAL;VALUE=DURATION:PT1H
X-Robots-Tag:noindex
X-PUBLISHED-TTL:PT1H
BEGIN:VTIMEZONE
TZID:UTC
BEGIN:STANDARD
TZOFFSETFROM:+0000
TZOFFSETTO:+0000
TZNAME:UTC
DTSTART:20260101T000000
END:STANDARD
END:VTIMEZONE
BEGIN:VEVENT
DTSTART;TZID=UTC:20260130T080000
DTEND;TZID=UTC:20260130T170000
DTSTAMP:20260423T115637
CREATED:20260130T102350Z
LAST-MODIFIED:20260130T102443Z
UID:2076-1769760000-1769792400@www.sonnenbergschule-aidlingen.de
SUMMARY:Aufruf zur Kuchenspende-Aktion für die Vesperkirche in Calw am 05.03.2026
DESCRIPTION:Egal ob arm oder reich – alle versammelt zum festlichen Mahl!\n\nEin Bild hat sich seit den letzten Vesperkirchen im Kopf festgesetzt: Menschen aller gesellschaftlichen Milieus\, egal welcher Herkunft\, Kultur oder Religion\, egal ob arm oder reich\, versammeln sich unter dem Dach der altehrwürdigen Calwer Stadtkirche zum festlichen Mahl.\n„Gott spricht: Siehe\, ich mache alles neu!“. So wird es auch im März wieder sein. Vom 3. – 12. März 2026 sagt Calw: „Wir machen das!“ \nDie Schülerinnen und Schüler der Klasse 8 leisten im Rahmen des Sozialprojekts einen kleinen Beitrag\, um den Bedürftigen das Mittagessen mit Kuchen zu versüßen. Um täglich bis zu 600 Menschen zu verköstigen\, ist der Aufwand enorm.\nWir unterstützen dieses soziale Engagement: In der Schule werden Kuchen gebacken\, die Eltern unserer Schülerinnen und Schüler sowie Aidlinger Bäckereien unterstützen uns mit Kuchenspenden. \nWir freuen uns\, wenn Aidlinger Bürgerinnen und Bürger sich an dieser Aktion mit beteiligen. Gerne nehmen wir gespendete Kuchen mit in die Vesperkirche nach Stuttgart.  \nJede Art von Gebäck ist erwünscht. Wichtig wäre jedoch\, dass es alkoholfrei ist und eine kurze Zutatenliste (allergene Stoffe) beigefügt ist. Die Backwaren sollten transportfähig in stabilen Kartons verpackt sein\, es können keine Behältnisse zurückgeben werden. In der Schule stehen auch Kartons zur Verfügung. \nAbgabetermin der Backwaren in der Sonnenbergschule:\nMittwoch\, 04. März 2026 8-16 Uhr und\nDonnerstag\, 05. März 2026 bis 08:00 Uhr (im Eingangsbereich der Schule) \nÜber die Kuchenausgabe in der Vesperkirche sollen Gespräche zwischen unseren Schülerinnen und Schülern und den Bedürftigen angebahnt werden\, die für beide Seiten gewinnbringend sein können. Zum einen erfahren die Besucher unsere Solidarität mit Ihnen\, zum anderen sehen unsere Schüler eine ihnen doch fremde Welt\, deren Menschen wir mit Respekt\, Wertschätzung und Hilfsbereitschaft begegnen \nHerzlichen Dank für Ihre freundliche Unterstützung \n 
URL:http://www.sonnenbergschule-aidlingen.de/event/aufruf-zur-kuchenspende-aktion-fuer-die-vesperkirche-in-calw-am-05-03-2026
END:VEVENT
END:VCALENDAR