BEGIN:VCALENDAR
VERSION:2.0
PRODID:-//Sonnenbergschule Aidlingen - ECPv6.2.3.2//NONSGML v1.0//EN
CALSCALE:GREGORIAN
METHOD:PUBLISH
X-WR-CALNAME:Sonnenbergschule Aidlingen
X-ORIGINAL-URL:http://www.sonnenbergschule-aidlingen.de
X-WR-CALDESC:Veranstaltungen für Sonnenbergschule Aidlingen
REFRESH-INTERVAL;VALUE=DURATION:PT1H
X-Robots-Tag:noindex
X-PUBLISHED-TTL:PT1H
BEGIN:VTIMEZONE
TZID:UTC
BEGIN:STANDARD
TZOFFSETFROM:+0000
TZOFFSETTO:+0000
TZNAME:UTC
DTSTART:20260101T000000
END:STANDARD
END:VTIMEZONE
BEGIN:VEVENT
DTSTART;TZID=UTC:20260313T080000
DTEND;TZID=UTC:20260313T130000
DTSTAMP:20260421T091144
CREATED:20250919T092955Z
LAST-MODIFIED:20250919T092955Z
UID:1856-1773388800-1773406800@www.sonnenbergschule-aidlingen.de
SUMMARY:Vera Deutsch Kl.8
DESCRIPTION:
URL:http://www.sonnenbergschule-aidlingen.de/event/vera-deutsch-kl-8
END:VEVENT
END:VCALENDAR