BEGIN:VCALENDAR
VERSION:2.0
PRODID:-//Sonnenbergschule Aidlingen - ECPv6.2.3.2//NONSGML v1.0//EN
CALSCALE:GREGORIAN
METHOD:PUBLISH
X-ORIGINAL-URL:http://www.sonnenbergschule-aidlingen.de
X-WR-CALDESC:Veranstaltungen für Sonnenbergschule Aidlingen
REFRESH-INTERVAL;VALUE=DURATION:PT1H
X-Robots-Tag:noindex
X-PUBLISHED-TTL:PT1H
BEGIN:VTIMEZONE
TZID:UTC
BEGIN:STANDARD
TZOFFSETFROM:+0000
TZOFFSETTO:+0000
TZNAME:UTC
DTSTART:20260101T000000
END:STANDARD
END:VTIMEZONE
BEGIN:VEVENT
DTSTART;TZID=UTC:20260316T080000
DTEND;TZID=UTC:20260320T170000
DTSTAMP:20260421T091209
CREATED:20250919T093103Z
LAST-MODIFIED:20250919T093103Z
UID:1858-1773648000-1774026000@www.sonnenbergschule-aidlingen.de
SUMMARY:Skilager Kl.6
DESCRIPTION:
URL:http://www.sonnenbergschule-aidlingen.de/event/skilager-kl-6
END:VEVENT
BEGIN:VEVENT
DTSTART;TZID=UTC:20260316T080000
DTEND;TZID=UTC:20260320T170000
DTSTAMP:20260421T091209
CREATED:20250919T093539Z
LAST-MODIFIED:20250919T093539Z
UID:1860-1773648000-1774026000@www.sonnenbergschule-aidlingen.de
SUMMARY:Praktikum Kl.8
DESCRIPTION:
URL:http://www.sonnenbergschule-aidlingen.de/event/praktikum-kl-8-2
END:VEVENT
END:VCALENDAR