BEGIN:VCALENDAR
VERSION:2.0
PRODID:-//Sonnenbergschule Aidlingen - ECPv6.2.3.2//NONSGML v1.0//EN
CALSCALE:GREGORIAN
METHOD:PUBLISH
X-WR-CALNAME:Sonnenbergschule Aidlingen
X-ORIGINAL-URL:http://www.sonnenbergschule-aidlingen.de
X-WR-CALDESC:Veranstaltungen für Sonnenbergschule Aidlingen
REFRESH-INTERVAL;VALUE=DURATION:PT1H
X-Robots-Tag:noindex
X-PUBLISHED-TTL:PT1H
BEGIN:VTIMEZONE
TZID:UTC
BEGIN:STANDARD
TZOFFSETFROM:+0000
TZOFFSETTO:+0000
TZNAME:UTC
DTSTART:20250101T000000
END:STANDARD
END:VTIMEZONE
BEGIN:VEVENT
DTSTART;TZID=UTC:20251202T080000
DTEND;TZID=UTC:20251202T140000
DTSTAMP:20260425T130748
CREATED:20251017T140009Z
LAST-MODIFIED:20251017T140009Z
UID:1922-1764662400-1764684000@www.sonnenbergschule-aidlingen.de
SUMMARY:Haus des Waldes Klasse 6
DESCRIPTION:
URL:http://www.sonnenbergschule-aidlingen.de/event/haus-des-waldes-klasse-6-2
CATEGORIES:Außerunterrichtliche Veranstaltungen
END:VEVENT
BEGIN:VEVENT
DTSTART;TZID=UTC:20251206T080000
DTEND;TZID=UTC:20251206T170000
DTSTAMP:20260425T130748
CREATED:20250919T092003Z
LAST-MODIFIED:20250919T092003Z
UID:1834-1765008000-1765040400@www.sonnenbergschule-aidlingen.de
SUMMARY:Weihnachtsmarkt Kl. 5-10
DESCRIPTION:
URL:http://www.sonnenbergschule-aidlingen.de/event/weihnachtsmarkt-kl-5-10
END:VEVENT
END:VCALENDAR