BEGIN:VCALENDAR
VERSION:2.0
PRODID:-//Sonnenbergschule Aidlingen - ECPv6.2.3.2//NONSGML v1.0//EN
CALSCALE:GREGORIAN
METHOD:PUBLISH
X-WR-CALNAME:Sonnenbergschule Aidlingen
X-ORIGINAL-URL:http://www.sonnenbergschule-aidlingen.de
X-WR-CALDESC:Veranstaltungen für Sonnenbergschule Aidlingen
REFRESH-INTERVAL;VALUE=DURATION:PT1H
X-Robots-Tag:noindex
X-PUBLISHED-TTL:PT1H
BEGIN:VTIMEZONE
TZID:UTC
BEGIN:STANDARD
TZOFFSETFROM:+0000
TZOFFSETTO:+0000
TZNAME:UTC
DTSTART:20260101T000000
END:STANDARD
END:VTIMEZONE
BEGIN:VEVENT
DTSTART;TZID=UTC:20260206T080000
DTEND;TZID=UTC:20260206T130000
DTSTAMP:20260421T092258
CREATED:20250919T092324Z
LAST-MODIFIED:20250919T092324Z
UID:1840-1770364800-1770382800@www.sonnenbergschule-aidlingen.de
SUMMARY:Zeugnisausgabe Kl. 5-10
DESCRIPTION:
URL:http://www.sonnenbergschule-aidlingen.de/event/zeugnisausgabe-kl-5-10
END:VEVENT
BEGIN:VEVENT
DTSTART;TZID=UTC:20260207T070000
DTEND;TZID=UTC:20260207T130000
DTSTAMP:20260421T092258
CREATED:20250919T092357Z
LAST-MODIFIED:20250919T092357Z
UID:1842-1770447600-1770469200@www.sonnenbergschule-aidlingen.de
SUMMARY:Altpapiersammlung
DESCRIPTION:
URL:http://www.sonnenbergschule-aidlingen.de/event/altpapiersammlung
END:VEVENT
BEGIN:VEVENT
DTSTART;TZID=UTC:20260210T080000
DTEND;TZID=UTC:20260210T140000
DTSTAMP:20260421T092258
CREATED:20250919T092432Z
LAST-MODIFIED:20250919T092432Z
UID:1844-1770710400-1770732000@www.sonnenbergschule-aidlingen.de
SUMMARY:Haus des Waldes Kl. 5b
DESCRIPTION:
URL:http://www.sonnenbergschule-aidlingen.de/event/haus-des-waldes-kl-5b-2
END:VEVENT
BEGIN:VEVENT
DTSTART;TZID=UTC:20260225T183000
DTEND;TZID=UTC:20260225T210000
DTSTAMP:20260421T092258
CREATED:20250919T092527Z
LAST-MODIFIED:20251201T101721Z
UID:1846-1772044200-1772053200@www.sonnenbergschule-aidlingen.de
SUMMARY:Elternabend kommende Fünftklässler
DESCRIPTION:
URL:http://www.sonnenbergschule-aidlingen.de/event/elternabend-kommende-kl-5
END:VEVENT
END:VCALENDAR