BEGIN:VCALENDAR
VERSION:2.0
PRODID:-//Sonnenbergschule Aidlingen - ECPv6.2.3.2//NONSGML v1.0//EN
CALSCALE:GREGORIAN
METHOD:PUBLISH
X-ORIGINAL-URL:http://www.sonnenbergschule-aidlingen.de
X-WR-CALDESC:Veranstaltungen für Sonnenbergschule Aidlingen
REFRESH-INTERVAL;VALUE=DURATION:PT1H
X-Robots-Tag:noindex
X-PUBLISHED-TTL:PT1H
BEGIN:VTIMEZONE
TZID:UTC
BEGIN:STANDARD
TZOFFSETFROM:+0000
TZOFFSETTO:+0000
TZNAME:UTC
DTSTART:20260101T000000
END:STANDARD
END:VTIMEZONE
BEGIN:VEVENT
DTSTART;TZID=UTC:20260305T080000
DTEND;TZID=UTC:20260305T170000
DTSTAMP:20260419T144404
CREATED:20250919T092759Z
LAST-MODIFIED:20250919T092759Z
UID:1850-1772697600-1772730000@www.sonnenbergschule-aidlingen.de
SUMMARY:Vesperkirche Calw Kl.8
DESCRIPTION:
URL:http://www.sonnenbergschule-aidlingen.de/event/vesperkirche-calw-kl-8
END:VEVENT
BEGIN:VEVENT
DTSTART;TZID=UTC:20260310T080000
DTEND;TZID=UTC:20260310T130000
DTSTAMP:20260419T144404
CREATED:20250919T092841Z
LAST-MODIFIED:20250919T092841Z
UID:1852-1773129600-1773147600@www.sonnenbergschule-aidlingen.de
SUMMARY:Vera Englisch Kl.8
DESCRIPTION:
URL:http://www.sonnenbergschule-aidlingen.de/event/vera-englisch-kl-8
END:VEVENT
BEGIN:VEVENT
DTSTART;TZID=UTC:20260312T080000
DTEND;TZID=UTC:20260312T130000
DTSTAMP:20260419T144404
CREATED:20250919T092902Z
LAST-MODIFIED:20250919T092902Z
UID:1854-1773302400-1773320400@www.sonnenbergschule-aidlingen.de
SUMMARY:Vera Mathe Kl.8
DESCRIPTION:
URL:http://www.sonnenbergschule-aidlingen.de/event/vera-mathe-kl-8
END:VEVENT
BEGIN:VEVENT
DTSTART;TZID=UTC:20260313T080000
DTEND;TZID=UTC:20260313T130000
DTSTAMP:20260419T144404
CREATED:20250919T092955Z
LAST-MODIFIED:20250919T092955Z
UID:1856-1773388800-1773406800@www.sonnenbergschule-aidlingen.de
SUMMARY:Vera Deutsch Kl.8
DESCRIPTION:
URL:http://www.sonnenbergschule-aidlingen.de/event/vera-deutsch-kl-8
END:VEVENT
BEGIN:VEVENT
DTSTART;TZID=UTC:20260316T080000
DTEND;TZID=UTC:20260320T170000
DTSTAMP:20260419T144404
CREATED:20250919T093103Z
LAST-MODIFIED:20250919T093103Z
UID:1858-1773648000-1774026000@www.sonnenbergschule-aidlingen.de
SUMMARY:Skilager Kl.6
DESCRIPTION:
URL:http://www.sonnenbergschule-aidlingen.de/event/skilager-kl-6
END:VEVENT
BEGIN:VEVENT
DTSTART;TZID=UTC:20260316T080000
DTEND;TZID=UTC:20260320T170000
DTSTAMP:20260419T144404
CREATED:20250919T093539Z
LAST-MODIFIED:20250919T093539Z
UID:1860-1773648000-1774026000@www.sonnenbergschule-aidlingen.de
SUMMARY:Praktikum Kl.8
DESCRIPTION:
URL:http://www.sonnenbergschule-aidlingen.de/event/praktikum-kl-8-2
END:VEVENT
BEGIN:VEVENT
DTSTART;TZID=UTC:20260323T080000
DTEND;TZID=UTC:20260323T170000
DTSTAMP:20260419T144404
CREATED:20260313T131444Z
LAST-MODIFIED:20260313T131444Z
UID:2179-1774252800-1774285200@www.sonnenbergschule-aidlingen.de
SUMMARY:Känguru Wettbewerb
DESCRIPTION:
URL:http://www.sonnenbergschule-aidlingen.de/event/kaenguru-wettbewerb
END:VEVENT
BEGIN:VEVENT
DTSTART;TZID=UTC:20260324T080000
DTEND;TZID=UTC:20260324T100000
DTSTAMP:20260419T144404
CREATED:20260313T130927Z
LAST-MODIFIED:20260313T130927Z
UID:2175-1774339200-1774346400@www.sonnenbergschule-aidlingen.de
SUMMARY:Schulgottesdienst
DESCRIPTION:
URL:http://www.sonnenbergschule-aidlingen.de/event/schulgottesdienst
CATEGORIES:Außerunterrichtliche Veranstaltungen
END:VEVENT
END:VCALENDAR